BEGIN:VCALENDAR
VERSION:2.0
CALSCALE:GREGORIAN
BEGIN:VEVENT
DTSTAMP:20260423T104418
DTSTART:20210515T120000
DTEND:20210515T170000
SUMMARY:Rock Stream Vineyards Spring Fling Music Fest, Sat. May 15th,Free Admission
DESCRIPTION:Event Info: https://www.localwineevents.com/view/event/rock-stream-vineyards-spring-fling-music-fest-sat-may-15thfree-admission/791224
LOCATION:Rock Stream Vineyards -- 162 Fir Tree Point Rd Rock Stream, NY 14878
STATUS:CONFIRMED
SEQUENCE:0
TRANSP:OPAQUE
END:VEVENT
END:VCALENDAR
