BEGIN:VCALENDAR
VERSION:2.0
CALSCALE:GREGORIAN
BEGIN:VEVENT
DTSTAMP:20260423T060827
DTSTART:20210411T113000
DTEND:20210411T123000
SUMMARY:Bingo  Bubbles Brunch With Casa Luigi Prosecco
DESCRIPTION:Event Info: https://www.localwineevents.com/view/tasting/bingo-bubbles-brunch-with-casa-luigi-prosecco/790206
LOCATION:
STATUS:CONFIRMED
SEQUENCE:0
TRANSP:OPAQUE
END:VEVENT
END:VCALENDAR
