BEGIN:VCALENDAR
VERSION:2.0
CALSCALE:GREGORIAN
BEGIN:VEVENT
DTSTAMP:20260423T060827
DTSTART:20210424T160000
DTEND:20210424T173000
SUMMARY:In The Kitchen With LOCALISM!
DESCRIPTION:Event Info: https://www.localwineevents.com/view/tasting/in-the-kitchen-with-localism/790009
LOCATION:
STATUS:CONFIRMED
SEQUENCE:0
TRANSP:OPAQUE
END:VEVENT
END:VCALENDAR
