BEGIN:VCALENDAR
VERSION:2.0
CALSCALE:GREGORIAN
BEGIN:VEVENT
DTSTAMP:20260423T060727
DTSTART:20210411T140000
DTEND:20210606T183000
SUMMARY:Online Core Wine Course | The Virtual Sommelier Certification Course
DESCRIPTION:Event Info: https://www.localwineevents.com/view/class/online-core-wine-course-the-virtual-sommelier-certification-course/789955
LOCATION:
STATUS:CONFIRMED
SEQUENCE:0
TRANSP:OPAQUE
END:VEVENT
END:VCALENDAR
