BEGIN:VCALENDAR
VERSION:2.0
CALSCALE:GREGORIAN
BEGIN:VEVENT
DTSTAMP:20260422T162601
DTSTART:20220917T000000
DTEND:20220917T000000
SUMMARY:Howard\'s Spanish Wine Tour 2022 - Small Group - 16 Nights - Waitlist Only
DESCRIPTION:Event Info: https://www.localwineevents.com/view/trip/howards-spanish-wine-tour-2022---small-group---16-nights---waitlist-only/789944
LOCATION:
STATUS:CONFIRMED
SEQUENCE:0
TRANSP:OPAQUE
END:VEVENT
END:VCALENDAR
