BEGIN:VCALENDAR
VERSION:2.0
CALSCALE:GREGORIAN
BEGIN:VEVENT
DTSTAMP:20260421T132730
DTSTART:20230129T000000
DTEND:20230129T000000
SUMMARY:Wine And Safari In South Africa
DESCRIPTION:Event Info: https://www.localwineevents.com/view/trip/wine-and-safari-in-south-africa/789763
LOCATION:
STATUS:CONFIRMED
SEQUENCE:0
TRANSP:OPAQUE
END:VEVENT
END:VCALENDAR
