BEGIN:VCALENDAR
VERSION:2.0
CALSCALE:GREGORIAN
BEGIN:VEVENT
DTSTAMP:20260423T145646
DTSTART:20210319T190000
DTEND:20210320T194500
SUMMARY:Virtual Niagara Wine Country Tasting
DESCRIPTION:Event Info: https://www.localwineevents.com/view/tasting/virtual-niagara-wine-country-tasting/789675
LOCATION:
STATUS:CONFIRMED
SEQUENCE:0
TRANSP:OPAQUE
END:VEVENT
END:VCALENDAR
