BEGIN:VCALENDAR
VERSION:2.0
CALSCALE:GREGORIAN
BEGIN:VEVENT
DTSTAMP:20260423T150049
DTSTART:20210319T190000
DTEND:20210319T200000
SUMMARY:LOCATION WINES - Around The World
DESCRIPTION:Event Info: https://www.localwineevents.com/view/tasting/location-wines---around-the-world/789668
LOCATION:
STATUS:CONFIRMED
SEQUENCE:0
TRANSP:OPAQUE
END:VEVENT
END:VCALENDAR
