BEGIN:VCALENDAR
VERSION:2.0
CALSCALE:GREGORIAN
BEGIN:VEVENT
DTSTAMP:20260423T060837
DTSTART:20210416T180000
DTEND:20210416T190000
SUMMARY:Mill Valley Wine, Beer And Gourmet Food Tasting
DESCRIPTION:Event Info: https://www.localwineevents.com/view/tasting/mill-valley-wine-beer-and-gourmet-food-tasting/789416
LOCATION:
STATUS:CONFIRMED
SEQUENCE:0
TRANSP:OPAQUE
END:VEVENT
END:VCALENDAR
