BEGIN:VCALENDAR
VERSION:2.0
CALSCALE:GREGORIAN
BEGIN:VEVENT
DTSTAMP:20260423T145554
DTSTART:20210320T193000
DTEND:20210320T203000
SUMMARY:Spring Wine Roadmap
DESCRIPTION:Event Info: https://www.localwineevents.com/view/tasting/spring-wine-roadmap/789098
LOCATION:
STATUS:CONFIRMED
SEQUENCE:0
TRANSP:OPAQUE
END:VEVENT
END:VCALENDAR
