BEGIN:VCALENDAR
VERSION:2.0
CALSCALE:GREGORIAN
BEGIN:VEVENT
DTSTAMP:20260423T060751
DTSTART:20210416T170000
DTEND:20210416T183000
SUMMARY:An Evening Of Wining And Dining With SUTRO Wine
DESCRIPTION:Event Info: https://www.localwineevents.com/view/tasting/an-evening-of-wining-and-dining-with-sutro-wine/789022
LOCATION:
STATUS:CONFIRMED
SEQUENCE:0
TRANSP:OPAQUE
END:VEVENT
END:VCALENDAR
