BEGIN:VCALENDAR
VERSION:2.0
CALSCALE:GREGORIAN
BEGIN:VEVENT
DTSTAMP:20260423T145743
DTSTART:20210325T170000
DTEND:20210325T183000
SUMMARY:Engaging The Senses: An Exploration Of Flavor And Sound
DESCRIPTION:Event Info: https://www.localwineevents.com/view/tasting/engaging-the-senses-an-exploration-of-flavor-and-sound/789021
LOCATION:
STATUS:CONFIRMED
SEQUENCE:0
TRANSP:OPAQUE
END:VEVENT
END:VCALENDAR
