BEGIN:VCALENDAR
VERSION:2.0
CALSCALE:GREGORIAN
BEGIN:VEVENT
DTSTAMP:20260423T060750
DTSTART:20210810T000000
DTEND:20210810T000000
SUMMARY:5 Wine  Food PAIRING MISTAKES: Natalie MacLean, World\'s Best Drinks Writer
DESCRIPTION:Event Info: https://www.localwineevents.com/view/class/5-wine-food-pairing-mistakes-natalie-maclean-worlds-best-drinks-writer/788876
LOCATION:
STATUS:CONFIRMED
SEQUENCE:0
TRANSP:OPAQUE
END:VEVENT
END:VCALENDAR
