BEGIN:VCALENDAR
VERSION:2.0
CALSCALE:GREGORIAN
BEGIN:VEVENT
DTSTAMP:20260423T145554
DTSTART:20210307T160000
DTEND:20210321T170000
SUMMARY:Wine Roads Less Traveled
DESCRIPTION:Event Info: https://www.localwineevents.com/view/tasting/wine-roads-less-traveled/788835
LOCATION:
STATUS:CONFIRMED
SEQUENCE:0
TRANSP:OPAQUE
END:VEVENT
END:VCALENDAR
