BEGIN:VCALENDAR
VERSION:2.0
CALSCALE:GREGORIAN
BEGIN:VEVENT
DTSTAMP:20260423T145629
DTSTART:20210319T190000
DTEND:20210319T203000
SUMMARY:Sake And Pizza!
DESCRIPTION:Event Info: https://www.localwineevents.com/view/class/sake-and-pizza/788739
LOCATION:
STATUS:CONFIRMED
SEQUENCE:0
TRANSP:OPAQUE
END:VEVENT
END:VCALENDAR
