BEGIN:VCALENDAR
VERSION:2.0
CALSCALE:GREGORIAN
BEGIN:VEVENT
DTSTAMP:20260423T060913
DTSTART:20210308T093000
DTEND:20210511T173000
SUMMARY:Whisk(e)y - Want To Become Knowledgeable  Certified? Live One-Line Course
DESCRIPTION:Event Info: https://www.localwineevents.com/view/tasting/whiskey---want-to-become-knowledgeable-certified-live-one-line-course/788610
LOCATION:
STATUS:CONFIRMED
SEQUENCE:0
TRANSP:OPAQUE
END:VEVENT
END:VCALENDAR
