BEGIN:VCALENDAR
VERSION:2.0
CALSCALE:GREGORIAN
BEGIN:VEVENT
DTSTAMP:20260423T060827
DTSTART:20210731T000000
DTEND:20210731T000000
SUMMARY:Wednesday Winers ~ Off The Vine
DESCRIPTION:Event Info: https://www.localwineevents.com/view/tasting/wednesday-winers-off-the-vine/788540
LOCATION:
STATUS:CONFIRMED
SEQUENCE:0
TRANSP:OPAQUE
END:VEVENT
END:VCALENDAR
