BEGIN:VCALENDAR
VERSION:2.0
CALSCALE:GREGORIAN
BEGIN:VEVENT
DTSTAMP:20260423T061215
DTSTART:20210729T000000
DTEND:20210729T000000
SUMMARY:Business Of Wine Online Course With Master Of Wine Tim Hanni
DESCRIPTION:Event Info: https://www.localwineevents.com/view/class/business-of-wine-online-course-with-master-of-wine-tim-hanni/788509
LOCATION:
STATUS:CONFIRMED
SEQUENCE:0
TRANSP:OPAQUE
END:VEVENT
END:VCALENDAR
