BEGIN:VCALENDAR
VERSION:2.0
CALSCALE:GREGORIAN
BEGIN:VEVENT
DTSTAMP:20260423T145646
DTSTART:20210729T000000
DTEND:20210729T000000
SUMMARY:ARGENTINA WINE SPECIALIST️ ONLINE COURSE
DESCRIPTION:Event Info: https://www.localwineevents.com/view/class/argentina-wine-specialist️-online-course/788507
LOCATION:
STATUS:CONFIRMED
SEQUENCE:0
TRANSP:OPAQUE
END:VEVENT
END:VCALENDAR
