BEGIN:VCALENDAR
VERSION:2.0
CALSCALE:GREGORIAN
BEGIN:VEVENT
DTSTAMP:20260423T060837
DTSTART:20210729T000000
DTEND:20210729T000000
SUMMARY:WINE 201  WINES OF THE WORLD ONLINE COURSE
DESCRIPTION:Event Info: https://www.localwineevents.com/view/class/wine-201-wines-of-the-world-online-course/788506
LOCATION:
STATUS:CONFIRMED
SEQUENCE:0
TRANSP:OPAQUE
END:VEVENT
END:VCALENDAR
