BEGIN:VCALENDAR
VERSION:2.0
CALSCALE:GREGORIAN
BEGIN:VEVENT
DTSTAMP:20260422T162724
DTSTART:20211119T180000
DTEND:20211119T190000
SUMMARY:Nine Hats Wines Drink And Think Virtual Tasting
DESCRIPTION:Event Info: https://www.localwineevents.com/view/event/nine-hats-wines-drink-and-think-virtual-tasting/788462
LOCATION:Virtual Event from the comfort of your own home! -- 3861 1st Ave S, Ste C Seattle, Washington 98134
STATUS:CONFIRMED
SEQUENCE:0
TRANSP:OPAQUE
END:VEVENT
END:VCALENDAR
