BEGIN:VCALENDAR
VERSION:2.0
CALSCALE:GREGORIAN
BEGIN:VEVENT
DTSTAMP:20260423T061215
DTSTART:20210213T160000
DTEND:20210612T173000
SUMMARY:Bubbles  Brie: Champagne For All
DESCRIPTION:Event Info: https://www.localwineevents.com/view/class/bubbles-brie-champagne-for-all/788270
LOCATION:
STATUS:CONFIRMED
SEQUENCE:0
TRANSP:OPAQUE
END:VEVENT
END:VCALENDAR
