BEGIN:VCALENDAR
VERSION:2.0
CALSCALE:GREGORIAN
BEGIN:VEVENT
DTSTAMP:20260423T060714
DTSTART:20210610T000000
DTEND:20210610T000000
SUMMARY:Zoom Wine Chats With Michelle Paris, DipWSET
DESCRIPTION:Event Info: https://www.localwineevents.com/view/tasting/zoom-wine-chats-with-michelle-paris-dipwset/787464
LOCATION:
STATUS:CONFIRMED
SEQUENCE:0
TRANSP:OPAQUE
END:VEVENT
END:VCALENDAR
