BEGIN:VCALENDAR
VERSION:2.0
CALSCALE:GREGORIAN
BEGIN:VEVENT
DTSTAMP:20260423T145512
DTSTART:20210111T183000
DTEND:20210320T160000
SUMMARY:WSET Level 2 Award In Wines  With Adventure In Wine
DESCRIPTION:Event Info: https://www.localwineevents.com/view/class/wset-level-2-award-in-wines-with-adventure-in-wine/787170
LOCATION:
STATUS:CONFIRMED
SEQUENCE:0
TRANSP:OPAQUE
END:VEVENT
END:VCALENDAR
