BEGIN:VCALENDAR
VERSION:2.0
CALSCALE:GREGORIAN
BEGIN:VEVENT
DTSTAMP:20260423T060750
DTSTART:20210110T090000
DTEND:20210509T180000
SUMMARY:WSET Level 1 Award In Wines With Adventure In Wine
DESCRIPTION:Event Info: https://www.localwineevents.com/view/class/wset-level-1-award-in-wines-with-adventure-in-wine/787114
LOCATION:
STATUS:CONFIRMED
SEQUENCE:0
TRANSP:OPAQUE
END:VEVENT
END:VCALENDAR
