BEGIN:VCALENDAR
VERSION:2.0
CALSCALE:GREGORIAN
BEGIN:VEVENT
DTSTAMP:20260423T060714
DTSTART:20210412T000000
DTEND:20210412T000000
SUMMARY:Vino@Home - Pinot Lovers Paradise
DESCRIPTION:Event Info: https://www.localwineevents.com/view/tasting/vinohome---pinot-lovers-paradise/786017
LOCATION:
STATUS:CONFIRMED
SEQUENCE:0
TRANSP:OPAQUE
END:VEVENT
END:VCALENDAR
