BEGIN:VCALENDAR
VERSION:2.0
CALSCALE:GREGORIAN
BEGIN:VEVENT
DTSTAMP:20260423T145743
DTSTART:20210606T000000
DTEND:20210606T000000
SUMMARY:Mindi Abair\'s Wine + Music Adventures: Sonoma, Healdsburg CA
DESCRIPTION:Event Info: https://www.localwineevents.com/view/trip/mindi-abairs-wine-music-adventures-sonoma-healdsburg-ca/785379
LOCATION:
STATUS:CONFIRMED
SEQUENCE:0
TRANSP:OPAQUE
END:VEVENT
END:VCALENDAR
