BEGIN:VCALENDAR
VERSION:2.0
CALSCALE:GREGORIAN
BEGIN:VEVENT
DTSTAMP:20260423T060919
DTSTART:20210526T000000
DTEND:20210526T000000
SUMMARY:The Spirit Of Northern Spain: San Sebastian And Rioja - MULTIPLE DEPARTURES
DESCRIPTION:Event Info: https://www.localwineevents.com/view/trip/the-spirit-of-northern-spain-san-sebastian-and-rioja---multiple-departures/784021
LOCATION:
STATUS:CONFIRMED
SEQUENCE:0
TRANSP:OPAQUE
END:VEVENT
END:VCALENDAR
