BEGIN:VCALENDAR
VERSION:2.0
CALSCALE:GREGORIAN
BEGIN:VEVENT
DTSTAMP:20260423T060726
DTSTART:20210711T000000
DTEND:20210711T000000
SUMMARY:Sprezzatura! Summer In Tuscany July 11 - 18, 2021
DESCRIPTION:Event Info: https://www.localwineevents.com/view/trip/sprezzatura-summer-in-tuscany-july-11---18-2021/783573
LOCATION:
STATUS:CONFIRMED
SEQUENCE:0
TRANSP:OPAQUE
END:VEVENT
END:VCALENDAR
