BEGIN:VCALENDAR
VERSION:2.0
CALSCALE:GREGORIAN
BEGIN:VEVENT
DTSTAMP:20260419T100905
DTSTART:20200314T000000
DTEND:20200314T000000
SUMMARY:2020 Chicago St Patrick#8217;s Day Bar Crawl (Saturday)
DESCRIPTION:Event Info: https://www.localwineevents.com/view/event/2020-chicago-st-patrick8217s-day-bar-crawl-saturday/778294
LOCATION:The Flat Iron -- 1565 N Milwaukee Ave Chicago, Illinois 60622
STATUS:CONFIRMED
SEQUENCE:0
TRANSP:OPAQUE
END:VEVENT
END:VCALENDAR
