BEGIN:VCALENDAR
VERSION:2.0
CALSCALE:GREGORIAN
BEGIN:VEVENT
DTSTAMP:20260423T060912
DTSTART:20210906T000000
DTEND:20210906T000000
SUMMARY:2021 Bordeaux Grand Cru Harvest Tour: Experience Bordeaux In Harvest Time
DESCRIPTION:Event Info: https://www.localwineevents.com/view/trip/2021-bordeaux-grand-cru-harvest-tour-experience-bordeaux-in-harvest-time/777208
LOCATION:
STATUS:CONFIRMED
SEQUENCE:0
TRANSP:OPAQUE
END:VEVENT
END:VCALENDAR
