BEGIN:VCALENDAR
VERSION:2.0
CALSCALE:GREGORIAN
BEGIN:VEVENT
DTSTAMP:20260423T060912
DTSTART:20210607T000000
DTEND:20210607T000000
SUMMARY:2021 Bordeaux Grand Cru Tour: Stay At A Chateau And Taste All First Growth
DESCRIPTION:Event Info: https://www.localwineevents.com/view/trip/2021-bordeaux-grand-cru-tour-stay-at-a-chateau-and-taste-all-first-growth/777206
LOCATION:
STATUS:CONFIRMED
SEQUENCE:0
TRANSP:OPAQUE
END:VEVENT
END:VCALENDAR
