BEGIN:VCALENDAR
VERSION:2.0
CALSCALE:GREGORIAN
BEGIN:VEVENT
DTSTAMP:20260420T141232
DTSTART:20200329T000000
DTEND:20200329T000000
SUMMARY:Opening Corks -  Philly Wine Week\'s Annual Kickoff Event
DESCRIPTION:Event Info: https://www.localwineevents.com/view/event/opening-corks---philly-wine-weeks-annual-kickoff-event/776034
LOCATION:The 19th Floor of the Bellevue Hotel -- 200 S. Broad Street Philadelphia, PA 19102
STATUS:CONFIRMED
SEQUENCE:0
TRANSP:OPAQUE
END:VEVENT
END:VCALENDAR
