BEGIN:VCALENDAR
VERSION:2.0
CALSCALE:GREGORIAN
BEGIN:VEVENT
DTSTAMP:20260420T093923
DTSTART:20200201T000000
DTEND:20200202T000000
SUMMARY:New Wine Release
DESCRIPTION:Event Info: https://www.localwineevents.com/view/event/new-wine-release/774493
LOCATION:Sunset Meadow Vineyards -- 599 Old Middle Street Goshen, CT 06756
STATUS:CONFIRMED
SEQUENCE:0
TRANSP:OPAQUE
END:VEVENT
END:VCALENDAR
