BEGIN:VCALENDAR
VERSION:2.0
CALSCALE:GREGORIAN
BEGIN:VEVENT
DTSTAMP:20260423T182613
DTSTART:20210605T000000
DTEND:20210605T000000
SUMMARY:Central Pa Winefestival 2021
DESCRIPTION:Event Info: https://www.localwineevents.com/view/event/central-pa-winefestival-2021/774394
LOCATION:Bloomsburg Fair Grounds -- Fort McClure Blvd. and US Route 11 Bloomsburg, PA 17815
STATUS:CONFIRMED
SEQUENCE:0
TRANSP:OPAQUE
END:VEVENT
END:VCALENDAR
