BEGIN:VCALENDAR
VERSION:2.0
CALSCALE:GREGORIAN
BEGIN:VEVENT
DTSTAMP:20260423T061216
DTSTART:20211010T000000
DTEND:20211010T000000
SUMMARY:Uniworld\'s Brilliant Bordeaux River Cruise  3-Night Bordeaux Extension
DESCRIPTION:Event Info: https://www.localwineevents.com/view/trip/uniworlds-brilliant-bordeaux-river-cruise-3-night-bordeaux-extension/771531
LOCATION:
STATUS:CONFIRMED
SEQUENCE:0
TRANSP:OPAQUE
END:VEVENT
END:VCALENDAR
