BEGIN:VCALENDAR
VERSION:2.0
CALSCALE:GREGORIAN
BEGIN:VEVENT
DTSTAMP:20260424T011647
DTSTART:20200222T000000
DTEND:20200223T000000
SUMMARY:NEW! Mardi Gras Celebration Weekend
DESCRIPTION:Event Info: https://www.localwineevents.com/view/event/new-mardi-gras-celebration-weekend/771343
LOCATION:Crossing Vineyards and Winery -- 1853 Wrightstown Road Washington Crossing, PA 18977
STATUS:CONFIRMED
SEQUENCE:0
TRANSP:OPAQUE
END:VEVENT
END:VCALENDAR
