BEGIN:VCALENDAR
VERSION:2.0
CALSCALE:GREGORIAN
BEGIN:VEVENT
DTSTAMP:20260423T142335
DTSTART:20191128T000000
DTEND:20191128T000000
SUMMARY:Thanksgiving Buffet At Bahia Resort Hotel
DESCRIPTION:Event Info: https://www.localwineevents.com/view/event/thanksgiving-buffet-at-bahia-resort-hotel/767496
LOCATION:Bahia Resort Hotel -- 998 West Mission Bay Drive San Diego, CA 92109
STATUS:CONFIRMED
SEQUENCE:0
TRANSP:OPAQUE
END:VEVENT
END:VCALENDAR
