BEGIN:VCALENDAR
VERSION:2.0
CALSCALE:GREGORIAN
BEGIN:VEVENT
DTSTAMP:20260421T174451
DTSTART:20191101T000000
DTEND:20191102T000000
SUMMARY:Celebrity Chef  Maria Liberati At Taste!  Philadelphia
DESCRIPTION:Event Info: https://www.localwineevents.com/view/event/celebrity-chef-maria-liberati-at-taste-philadelphia/767339
LOCATION:Valley Forge Casino -- 1160 1st avenue king of Prussia, Pa 19406
STATUS:CONFIRMED
SEQUENCE:0
TRANSP:OPAQUE
END:VEVENT
END:VCALENDAR
