BEGIN:VCALENDAR
VERSION:2.0
CALSCALE:GREGORIAN
BEGIN:VEVENT
DTSTAMP:20260424T045450
DTSTART:20191004T000000
DTEND:20191004T000000
SUMMARY:Painting  Vino
DESCRIPTION:Event Info: https://www.localwineevents.com/view/event/painting-vino/766326
LOCATION:WineSellar  Brasserie -- 9550 Waples Street, Suite 115 San Diego, CA 92121
STATUS:CONFIRMED
SEQUENCE:0
TRANSP:OPAQUE
END:VEVENT
END:VCALENDAR
