BEGIN:VCALENDAR
VERSION:2.0
CALSCALE:GREGORIAN
BEGIN:VEVENT
DTSTAMP:20260421T154144
DTSTART:20190723T000000
DTEND:20190723T000000
SUMMARY:Old Brick Inn South African Braai
DESCRIPTION:Event Info: https://www.localwineevents.com/view/event/old-brick-inn-south-african-braai/756057
LOCATION:Old Brick Inn -- 401 S Talbot St St. Michaels, MD 21663
STATUS:CONFIRMED
SEQUENCE:0
TRANSP:OPAQUE
END:VEVENT
END:VCALENDAR
