BEGIN:VCALENDAR
VERSION:2.0
CALSCALE:GREGORIAN
BEGIN:VEVENT
DTSTAMP:20260423T154849
DTSTART:20190810T000000
DTEND:20190810T000000
SUMMARY:Blended Wine And Music Festival
DESCRIPTION:Event Info: https://www.localwineevents.com/view/event/blended-wine-and-music-festival/755832
LOCATION:Waterfront Park -- 1600 Pacific Hwy San Diego, CA 92101
STATUS:CONFIRMED
SEQUENCE:0
TRANSP:OPAQUE
END:VEVENT
END:VCALENDAR
