BEGIN:VCALENDAR
VERSION:2.0
CALSCALE:GREGORIAN
BEGIN:VEVENT
DTSTAMP:20260420T093924
DTSTART:20190706T000000
DTEND:20190706T000000
SUMMARY:Pop Up Market At The Vineyard
DESCRIPTION:Event Info: https://www.localwineevents.com/view/event/pop-up-market-at-the-vineyard/754853
LOCATION:Sunset Meadow Vineyards -- 599 Old Middle Street Goshen, CT 06756
STATUS:CONFIRMED
SEQUENCE:0
TRANSP:OPAQUE
END:VEVENT
END:VCALENDAR
