BEGIN:VCALENDAR
VERSION:2.0
CALSCALE:GREGORIAN
BEGIN:VEVENT
DTSTAMP:20260424T045450
DTSTART:20190511T000000
DTEND:20190511T000000
SUMMARY:Junior League Of San Diego Food  Wine Festival 2019
DESCRIPTION:Event Info: https://www.localwineevents.com/view/event/junior-league-of-san-diego-food-wine-festival-2019/751135
LOCATION:La Jolla Cove -- 1100 Coast Blvd La Jolla, CA 92037
STATUS:CONFIRMED
SEQUENCE:0
TRANSP:OPAQUE
END:VEVENT
END:VCALENDAR
