BEGIN:VCALENDAR
VERSION:2.0
CALSCALE:GREGORIAN
BEGIN:VEVENT
DTSTAMP:20260420T101325
DTSTART:20190124T000000
DTEND:20190124T000000
SUMMARY:Easterseals Winter Wine Spectacular
DESCRIPTION:Event Info: https://www.localwineevents.com/view/event/easterseals-winter-wine-spectacular/741338
LOCATION:Doubletree by Hilton Downtown Manchester -- 700 Elm Street Manchester, NH 03103
STATUS:CONFIRMED
SEQUENCE:0
TRANSP:OPAQUE
END:VEVENT
END:VCALENDAR
