BEGIN:VCALENDAR
VERSION:2.0
CALSCALE:GREGORIAN
BEGIN:VEVENT
DTSTAMP:20260420T094459
DTSTART:20190314T000000
DTEND:20190314T000000
SUMMARY:Greater Hartford International Pinot Noir Festival
DESCRIPTION:Event Info: https://www.localwineevents.com/view/event/greater-hartford-international-pinot-noir-festival/738355
LOCATION:Max Downtown -- CITY PLACE 185 ASYLUM STREET Hartford, Ct 06103
STATUS:CONFIRMED
SEQUENCE:0
TRANSP:OPAQUE
END:VEVENT
END:VCALENDAR
