BEGIN:VCALENDAR
VERSION:2.0
CALSCALE:GREGORIAN
BEGIN:VEVENT
DTSTAMP:20260421T131312
DTSTART:20181206T000000
DTEND:20181206T000000
SUMMARY:Les Dames Nashville  Chef Margot McCormack Host Lunch With Carla Hall
DESCRIPTION:Event Info: https://www.localwineevents.com/view/event/les-dames-nashville-chef-margot-mccormack-host-lunch-with-carla-hall/736731
LOCATION:Margot Caf -- 1017 Woodland Street Nashville, TN 37206
STATUS:CONFIRMED
SEQUENCE:0
TRANSP:OPAQUE
END:VEVENT
END:VCALENDAR
