BEGIN:VCALENDAR
VERSION:2.0
CALSCALE:GREGORIAN
BEGIN:VEVENT
DTSTAMP:20260423T085716
DTSTART:20181024T000000
DTEND:20181024T000000
SUMMARY:An Evening With Boos Rock Winery
DESCRIPTION:Event Info: https://www.localwineevents.com/view/event/an-evening-with-boos-rock-winery/731168
LOCATION:The Dime Restaurant Allentown -- 12 N 7th St Allentown, PA 18101
STATUS:CONFIRMED
SEQUENCE:0
TRANSP:OPAQUE
END:VEVENT
END:VCALENDAR
