BEGIN:VCALENDAR
VERSION:2.0
CALSCALE:GREGORIAN
BEGIN:VEVENT
DTSTAMP:20260420T093941
DTSTART:20180914T000000
DTEND:20180914T000000
SUMMARY:New Hartford Historical Society Wine And Beer Tasting
DESCRIPTION:Event Info: https://www.localwineevents.com/view/event/new-hartford-historical-society-wine-and-beer-tasting/725423
LOCATION:Ski Sundown -- 126 Ratlum Road New Hartford, CT 06057
STATUS:CONFIRMED
SEQUENCE:0
TRANSP:OPAQUE
END:VEVENT
END:VCALENDAR
