BEGIN:VCALENDAR
VERSION:2.0
CALSCALE:GREGORIAN
BEGIN:VEVENT
DTSTAMP:20260420T094528
DTSTART:20180610T000000
DTEND:20180610T000000
SUMMARY:Harrys- The 10th Annual Wine  Swine Pig Roast
DESCRIPTION:Event Info: https://www.localwineevents.com/view/event/harrys--the-10th-annual-wine-swine-pig-roast/719556
LOCATION:Barcelona Fairfield -- 4180 Black Rock Turnpike Fairfield, CT
STATUS:CONFIRMED
SEQUENCE:0
TRANSP:OPAQUE
END:VEVENT
END:VCALENDAR
